BEGIN:VCALENDAR
VERSION:2.0
PRODID:-//Sveriges Jordbruksarrendatorer - ECPv6.15.17.1//NONSGML v1.0//EN
CALSCALE:GREGORIAN
METHOD:PUBLISH
X-ORIGINAL-URL:https://sja.se
X-WR-CALDESC:Händelser för Sveriges Jordbruksarrendatorer
REFRESH-INTERVAL;VALUE=DURATION:PT1H
X-Robots-Tag:noindex
X-PUBLISHED-TTL:PT1H
BEGIN:VTIMEZONE
TZID:Europe/Stockholm
BEGIN:DAYLIGHT
TZOFFSETFROM:+0100
TZOFFSETTO:+0200
TZNAME:CEST
DTSTART:20230326T010000
END:DAYLIGHT
BEGIN:STANDARD
TZOFFSETFROM:+0200
TZOFFSETTO:+0100
TZNAME:CET
DTSTART:20231029T010000
END:STANDARD
BEGIN:DAYLIGHT
TZOFFSETFROM:+0100
TZOFFSETTO:+0200
TZNAME:CEST
DTSTART:20240331T010000
END:DAYLIGHT
BEGIN:STANDARD
TZOFFSETFROM:+0200
TZOFFSETTO:+0100
TZNAME:CET
DTSTART:20241027T010000
END:STANDARD
BEGIN:DAYLIGHT
TZOFFSETFROM:+0100
TZOFFSETTO:+0200
TZNAME:CEST
DTSTART:20250330T010000
END:DAYLIGHT
BEGIN:STANDARD
TZOFFSETFROM:+0200
TZOFFSETTO:+0100
TZNAME:CET
DTSTART:20251026T010000
END:STANDARD
END:VTIMEZONE
BEGIN:VEVENT
DTSTART;VALUE=DATE:20241203
DTEND;VALUE=DATE:20241205
DTSTAMP:20260422T182001
CREATED:20240328T103502Z
LAST-MODIFIED:20241024T095352Z
UID:10000009-1733184000-1733356799@sja.se
SUMMARY:Stämma 2024 i Nässjö
DESCRIPTION:Vi hälsar er välkomna till stämma 2024! Det här är vår stora händelse på året och vi hoppas på att det ska bli så givande dagar som möjligt! \n\nStämman pågår under två dagar med start den 3 december kl 11:00 och avslutas 4 december kl 12:00. Totalt har stämman 50 mandat vilket innebär att beroende på hur många medlemmar det finns i respektive region tilldelas man olika många mandat. Samtliga mandat bjuder föreningen på hela vistelsen och kostnader runt omkring. Men vill du som medlem delta är du välkommen i mån av plats! Hör då av dig till kansliet i god tid för att säkra din plats. Vid eventuellt nyttjande av röstlängd under årsmötet räknas dock endast röster med de närvarande som har mandat. \n\nDet är viktigt att vi fyller alla mandat för att det ska bli så givande dagar som möjligt!  \n\n\nNyfiken på programmet? Det hittar du här! Observera att det kan komma att justeras något. \n\nSista anmälningsdag är 9 november!\n\n  \n\n\n	Observera: JavaScript krävs för detta innehåll.\nDetta formulär genomgår för närvarande underhåll. Försök igen senare.
URL:https://sja.se/kalender/stamma-2024-jonkoping/
LOCATION:Jönköping\, Mångatan 10\, Jönköping\, 554 39\, Sweden
END:VEVENT
BEGIN:VEVENT
DTSTART;VALUE=DATE:20240703
DTEND;VALUE=DATE:20240705
DTSTAMP:20260422T182001
CREATED:20240328T103136Z
LAST-MODIFIED:20240422T054444Z
UID:10000008-1719964800-1720137599@sja.se
SUMMARY:Vi kommer finnas på Brunnby lantbrukardagar 3-4 juli!
DESCRIPTION:Mer information om mässan hittar du här. \n\n\n\n\n\nHoppas vi ses där\, varmt välkomna!
URL:https://sja.se/kalender/vi-kommer-finnas-pa-brunnby-lantbrukardagar-3-4-juli/
LOCATION:Brunnby Gård\, Sverige
END:VEVENT
BEGIN:VEVENT
DTSTART;VALUE=DATE:20240626
DTEND;VALUE=DATE:20240628
DTSTAMP:20260422T182001
CREATED:20240328T101751Z
LAST-MODIFIED:20240531T062032Z
UID:10000007-1719360000-1719532799@sja.se
SUMMARY:Träffa oss på Borgeby fältdagar 26-27 juni!
DESCRIPTION:Sommarens mässor närmar sig med stormsteg! \nMer information om mässan hittar du här. \nFunderar du på att bli medlem? Missa inte att komma och prata med oss\, vi har ett erbjudande till just dig! \nHoppas vi ses\, välkommen! \n\n \n 
URL:https://sja.se/kalender/traffa-oss-borgeby-faltdagar/
LOCATION:Borgeby kyrkväg\, Borgeby Kyrkväg 7\, Bjärred\, 23791\, Sverige
END:VEVENT
BEGIN:VEVENT
DTSTART;TZID=Europe/Stockholm:20240411T183000
DTEND;TZID=Europe/Stockholm:20240411T210000
DTSTAMP:20260422T182001
CREATED:20240328T085443Z
LAST-MODIFIED:20240328T101307Z
UID:10000006-1712860200-1712869200@sja.se
SUMMARY:SJA Östergötland hälsar välkommen till årsmöte!
DESCRIPTION:Programmet hittar du här. \n\n\n\n\n\nVARMT VÄLKOMNA!\n\n\n\n\n\n\n\nAnmäl dig senast 5 april för att kunna beräkna matbeställning!\nErik Andersson 070 453 99 65\, erik.tittorp@teilia.com\nÅke Andersson 070 964 03 47\, andersson-ake@telia.com
URL:https://sja.se/kalender/arsmote-sja-ostergotland/
LOCATION:Sjötullsgatan 41\, 602 28 Norrköping
END:VEVENT
BEGIN:VEVENT
DTSTART;TZID=Europe/Stockholm:20240403T173000
DTEND;TZID=Europe/Stockholm:20240403T203000
DTSTAMP:20260422T182001
CREATED:20240328T084643Z
LAST-MODIFIED:20240328T084643Z
UID:10000005-1712165400-1712176200@sja.se
SUMMARY:Välkommen på årsmöte SJA Värmland
DESCRIPTION:Är du inte medlem ännu? Det blir du lätt genom att klicka in på ”Bli medlem”! Programmet finner du här. \n\n\n\n\n\nVARMT VÄLKOMNA!\n\nAnmälan till Anders Håkanson senast 28 mars\nSms 070 642 44 16\nMail andershakanson@tyfonmail.se
URL:https://sja.se/kalender/arsmote-sja-varmland/
LOCATION:Våldalen 570\, 65591 Karlstad
END:VEVENT
BEGIN:VEVENT
DTSTART;TZID=Europe/Stockholm:20240326T180000
DTEND;TZID=Europe/Stockholm:20240326T210000
DTSTAMP:20260422T182001
CREATED:20240328T084129Z
LAST-MODIFIED:20240328T084255Z
UID:10000004-1711476000-1711486800@sja.se
SUMMARY:Årsmöte SJA Stockholm
DESCRIPTION:Programmet hittar du här \n\nVARMT VÄLKOMNA!\nAnmäl dig till Lasse Gillberg via mail bjorksattra@gmail.com för beräkning av förtäring senast 22 mars! Har du glämt att anmäla dig? Kom ändå!
URL:https://sja.se/kalender/arsmote-sja-stockholm/
LOCATION:Vassundavägen 243 193 91 Sigtuna
END:VEVENT
BEGIN:VEVENT
DTSTART;TZID=Europe/Stockholm:20240325T180000
DTEND;TZID=Europe/Stockholm:20240325T200000
DTSTAMP:20260422T182001
CREATED:20240320T085616Z
LAST-MODIFIED:20240320T085616Z
UID:10000001-1711389600-1711396800@sja.se
SUMMARY:Årsmöte SJA Västmanland
DESCRIPTION:Vi träffas på Kullinge Gård kl 18:00. Se programmet för mer info! \nVARMT VÄLKOMNA!  \nAnmälan till Magnus Claesson senast 18 mars\nSms 070-212 02 22\nMail magnus@claessonslantbruk.se
URL:https://sja.se/kalender/arsmote-sja-vastmanland/
LOCATION:Kullinge Gård\, 1 Kullinge gård\, Köping\, 731 97
END:VEVENT
BEGIN:VEVENT
DTSTART;TZID=Europe/Stockholm:20240314T183000
DTEND;TZID=Europe/Stockholm:20240314T210000
DTSTAMP:20260422T182001
CREATED:20240328T075910Z
LAST-MODIFIED:20240328T084335Z
UID:10000002-1710441000-1710450000@sja.se
SUMMARY:Årsmöte SJA Sörmland
DESCRIPTION:Välkommen på årsmöte för SJA Sörmland! \nVi träffas på Grinda Gårdsglass kl 18:30 och vi hoppas så många som möjligt kan komma! Ta del av programmet här! \nVARMT VÄLKOMNA!
URL:https://sja.se/kalender/arsmote-sja-sormland/
LOCATION:1 Grinda Saeter 642 96\, Malmköping
END:VEVENT
END:VCALENDAR