BEGIN:VCALENDAR
VERSION:2.0
PRODID:-//Sveriges Jordbruksarrendatorer - ECPv6.15.17.1//NONSGML v1.0//EN
CALSCALE:GREGORIAN
METHOD:PUBLISH
X-ORIGINAL-URL:https://sja.se
X-WR-CALDESC:Händelser för Sveriges Jordbruksarrendatorer
REFRESH-INTERVAL;VALUE=DURATION:PT1H
X-Robots-Tag:noindex
X-PUBLISHED-TTL:PT1H
BEGIN:VTIMEZONE
TZID:Europe/Stockholm
BEGIN:DAYLIGHT
TZOFFSETFROM:+0100
TZOFFSETTO:+0200
TZNAME:CEST
DTSTART:20230326T010000
END:DAYLIGHT
BEGIN:STANDARD
TZOFFSETFROM:+0200
TZOFFSETTO:+0100
TZNAME:CET
DTSTART:20231029T010000
END:STANDARD
BEGIN:DAYLIGHT
TZOFFSETFROM:+0100
TZOFFSETTO:+0200
TZNAME:CEST
DTSTART:20240331T010000
END:DAYLIGHT
BEGIN:STANDARD
TZOFFSETFROM:+0200
TZOFFSETTO:+0100
TZNAME:CET
DTSTART:20241027T010000
END:STANDARD
BEGIN:DAYLIGHT
TZOFFSETFROM:+0100
TZOFFSETTO:+0200
TZNAME:CEST
DTSTART:20250330T010000
END:DAYLIGHT
BEGIN:STANDARD
TZOFFSETFROM:+0200
TZOFFSETTO:+0100
TZNAME:CET
DTSTART:20251026T010000
END:STANDARD
BEGIN:DAYLIGHT
TZOFFSETFROM:+0100
TZOFFSETTO:+0200
TZNAME:CEST
DTSTART:20260329T010000
END:DAYLIGHT
BEGIN:STANDARD
TZOFFSETFROM:+0200
TZOFFSETTO:+0100
TZNAME:CET
DTSTART:20261025T010000
END:STANDARD
END:VTIMEZONE
BEGIN:VEVENT
DTSTART;TZID=Europe/Stockholm:20250410T183000
DTEND;TZID=Europe/Stockholm:20250410T210000
DTSTAMP:20260423T125145
CREATED:20250320T092443Z
LAST-MODIFIED:20250320T092731Z
UID:10000037-1744309800-1744318800@sja.se
SUMMARY:Årsmöte SJA Dalarna
DESCRIPTION:SJA Dalarna önskar dig välkommen på årsmöte torsdag den 10 april 2025 kl 18:30\nVi träffas hos Traktor Nord i Falun\nHitta hit: Roxnäsvägen 10\, Falun \nPROGRAM UTÖVER ÅRSMÖTESFÖRHANDLINGAR\nVår värd Anders Gruving berättar lite om Traktor Nords verksamhet.\nLars Andersson\, SJA:s vice ordförande\, deltar i kvällens möte. Lars kommer informera om aktuella arrendefrågor och kan också svara på våra specifika frågor om arrenderelaterade utmaningar och funderingar. \nÖVRIG INFORMATION\nVi bjuder på kaffe med tilltugg i vanlig ordning! \nTa gärna med er fler lantbrukare som ännu inte är medlemmar men också era yngre i er närhet så vi kan visa upp vår verksamhet. \nVi hoppas också att du vill fortsätta att vara medlem i vår förening då det ger stor tyngd åt det viktiga arbete vår centrala organisation\, SJA\, gör för arrendatorernas villkor. Dalarnas styrelsemedlemmarna är också nåbara för att svara på dina frågor om arrende eller kan hjälpa till att förmedla kontakt med experter i ämnet. \n \n 
URL:https://sja.se/kalender/arsmote-sja-dalarna-2/
END:VEVENT
BEGIN:VEVENT
DTSTART;TZID=Europe/Stockholm:20250410T180000
DTEND;TZID=Europe/Stockholm:20250410T210000
DTSTAMP:20260423T125145
CREATED:20250326T095132Z
LAST-MODIFIED:20250326T135812Z
UID:10000038-1744308000-1744318800@sja.se
SUMMARY:Årsmöte SJA Västmanland 2025
DESCRIPTION:SJA Västmanland hälsar er välkomna på årsmöte!\nTEMA INVESTERING OCH BYGGNATION PÅ ARRENDEGÅRDEN\nVi startar kvällen med kaffe och smörgås som Traktor Nord bjuder på. Samtidigt presenterar de sin verksamhet. \nMed på länk finns SJA:s arrendespecialist Jan Lagerroth som kommer berätta om hur du ska tänka vid investeringar och byggnation som arrendator. \nSå klart håller vi även interna diskussioner och information från styrelsen. \nÖVRIG INFORMATION \nSista anmälningsdag är 6 april för att kunna beräkna matbeställning! \nSe programmet i sin helhet här. \n\n\n	Observera: JavaScript krävs för detta innehåll.\nDetta formulär genomgår för närvarande underhåll. Försök igen senare.
URL:https://sja.se/kalender/arsmote-sja-vastmanland-2025/
END:VEVENT
BEGIN:VEVENT
DTSTART;TZID=Europe/Stockholm:20250403T103000
DTEND;TZID=Europe/Stockholm:20250403T150000
DTSTAMP:20260423T125145
CREATED:20250318T100831Z
LAST-MODIFIED:20250318T100831Z
UID:10000036-1743676200-1743692400@sja.se
SUMMARY:Årsmöte och studiebesök SJA Örebro
DESCRIPTION:SJA Örebro hälsar er välkomna på studiebesök och årsmöte!\nPROGRAM UTÖVER ÅRSMÖTESFÖRHANDLINGAR\nVi börjar med ett besök hos Nils Eld Sjågesta kl 10\,30. Nils har nyligen byggt ut sin dikobesättning till 270 platser. Han har även utökat brukningsarealen med flera arrenden under senaste åren. \nDärefter blir det årsmöte på Soliden Kursgård Långbyn 217 Örebro. Medverkande är Carl-Fredik Svederberg\, som är ordförande i SJA Sverige. \nÖVRIG INFORMATION\nVi bjuder på lunch! \nTa gärna med er fler lantbrukare som ännu inte är medlemmar men också era yngre i er närhet så vi kan visa upp vår verksamhet. \nSista anmälningsdag är 31 mars för att kunna beräkna matbeställning! \nAnmälan till: \nTomas Hammarlund SMS 070-5288042\nLeif Persson SMS 070-6317400
URL:https://sja.se/kalender/arsmote-och-studiebesok-sja-orebro/
END:VEVENT
BEGIN:VEVENT
DTSTART;TZID=Europe/Stockholm:20250401T183000
DTEND;TZID=Europe/Stockholm:20250401T210000
DTSTAMP:20260423T125145
CREATED:20250314T074638Z
LAST-MODIFIED:20250314T075958Z
UID:10000035-1743532200-1743541200@sja.se
SUMMARY:Årsmöte SJA Östergötland
DESCRIPTION:Välkomna på årsmöte 2025 för SJA Östergötland!\nVi träffas tisdag den 1 april 2025 kl 18:30 hos hos Lovang Lantbrukskonsult AB.\nHitta hit: Trådgatan 2\, 583 71\, Linköping \nTEMA\nHUR SKAPAR MAN EN LÖNSAMT OCH LÅNGSIKTIGT BRUKANDE? \nSe programmet i sin helhet här \n \n\n	Observera: JavaScript krävs för detta innehåll.\nDetta formulär genomgår för närvarande underhåll. Försök igen senare.
URL:https://sja.se/kalender/arsmote-sja-ostergotland-2/
END:VEVENT
BEGIN:VEVENT
DTSTART;TZID=Europe/Stockholm:20250324T180000
DTEND;TZID=Europe/Stockholm:20250324T210000
DTSTAMP:20260423T125145
CREATED:20250205T094601Z
LAST-MODIFIED:20250317T063139Z
UID:10000026-1742839200-1742850000@sja.se
SUMMARY:Årsmöte 2025 SJA Gotland
DESCRIPTION:Vi startar upp SJA Gotland!\nVi är glada och stolta över att vi startar upp en ny regional förening på Gotland! Var med på vårt första möte där vi presenterar föreningen och sätter styrelse\, valberedning och revisorer. På plats finns ordförande Carl-Fredrik Svederberg\, arrendespecialist Jan Lagerroth och från kansliet Madelene Svedin. \nFör dig som ännu inte är medlem och önskar gå med har vi ett erbjudande. Passa på! \nInbjudan och program kan du hitta här. \nFöreslagna stadgar \n \n\n	Observera: JavaScript krävs för detta innehåll.\nDetta formulär genomgår för närvarande underhåll. Försök igen senare.
URL:https://sja.se/kalender/arsmote-2025-sja-gotland/
LOCATION:grönt centrum romakloster\, Roma Lövsta 10\,\, Romakloster\, 622 54\, Sweden
END:VEVENT
BEGIN:VEVENT
DTSTART;TZID=Europe/Stockholm:20250314T080000
DTEND;TZID=Europe/Stockholm:20250314T170000
DTSTAMP:20260423T125145
CREATED:20250205T095604Z
LAST-MODIFIED:20250205T095604Z
UID:10000030-1741939200-1741971600@sja.se
SUMMARY:Vi firar fardagen!
DESCRIPTION:
URL:https://sja.se/kalender/vi-firar-fardagen/
END:VEVENT
BEGIN:VEVENT
DTSTART;TZID=Europe/Stockholm:20250313T093000
DTEND;TZID=Europe/Stockholm:20250313T103000
DTSTAMP:20260423T125145
CREATED:20250205T095426Z
LAST-MODIFIED:20250206T132627Z
UID:10000029-1741858200-1741861800@sja.se
SUMMARY:Digital utbildning grundläggande arrende
DESCRIPTION:Välkommen på digital utbildning i grundläggande arrende!\nEtt utbildningstillfälle för våra medlemmar att uppdatera sina kunskaper och ställa frågor kring allt som rör arrende. \n \n\n	Observera: JavaScript krävs för detta innehåll.\nDetta formulär genomgår för närvarande underhåll. Försök igen senare.
URL:https://sja.se/kalender/digital-utbildning-grundlaggande-arrende-3/
END:VEVENT
BEGIN:VEVENT
DTSTART;TZID=Europe/Stockholm:20250312T090000
DTEND;TZID=Europe/Stockholm:20250312T103000
DTSTAMP:20260423T125145
CREATED:20250205T095754Z
LAST-MODIFIED:20250205T143254Z
UID:10000032-1741770000-1741775400@sja.se
SUMMARY:Öppet seminarium lönsamhet och syn
DESCRIPTION:Välkommen på öppet seminarium med fokus på\nlönsamhet och syn\nVi öppnar upp för frågeställningar gällande lönsamhet och syn i arrendeförhållande. Hur ser vi på index? Hur skall man tänka när man skall bjuda på ett nytt arrende? Hur skapar man lönsamhet i ett arrendeföretag?\nMed på seminariet finns ordförande Carl-Fredrik Svederberg och vice ordförande Lars Andersson för att svara på frågor. \nAlla är välkomna men anmälan görs här nedan för möteslänk. Du kan anmäla dig fram till 30 minuter innan start. \n \n\n	Observera: JavaScript krävs för detta innehåll.\nDetta formulär genomgår för närvarande underhåll. Försök igen senare.
URL:https://sja.se/kalender/oppet-seminarium-lonsamhet-och-syn/
END:VEVENT
BEGIN:VEVENT
DTSTART;TZID=Europe/Stockholm:20250311T180000
DTEND;TZID=Europe/Stockholm:20250311T210000
DTSTAMP:20260423T125145
CREATED:20250219T092537Z
LAST-MODIFIED:20250219T092807Z
UID:10000034-1741716000-1741726800@sja.se
SUMMARY:Årsmöte 2025 Sörmland
DESCRIPTION:Välkommen på årsmöte 2025 för SJA Sörmland!\nÅrets tema är täckdikning. Hur fungerar det? Hur är bidragen utformade? Vad gäller för dig som arrendator? \nJon Westling från Hushållningssällskapet finns på plats för att ge svar på er frågor. \nAxima bjuder också på mat. Därför behöver vi ha er anmälan senast den 6 mars för matbeställning. \nOrdförande Peter Holmberg tar emot anmälningar via\nSMS 070 63 12 789\nMail peter.uddberga@telia.com \nSe inbjudan här
URL:https://sja.se/kalender/arsmote-2025-sormland/
END:VEVENT
BEGIN:VEVENT
DTSTART;TZID=Europe/Stockholm:20250311T090000
DTEND;TZID=Europe/Stockholm:20250311T103000
DTSTAMP:20260423T125145
CREATED:20250205T095705Z
LAST-MODIFIED:20250205T142944Z
UID:10000031-1741683600-1741689000@sja.se
SUMMARY:Öppet seminarium vildskador i arrendeförhållande
DESCRIPTION:Välkommen på öppet seminarium med fokus på\nviltproblematiken i arrendeförhållande\nVi öppnar upp för frågeställningar gällande viltproblematiken arrendeförhållande. Hur kan vi påverka vår situation? Vilka skador ska en arrendator tåla? Vad gäller vid skyddsjakt?\nMed på seminariet finns arrendespecialist Jan Lagerroth och styrelseledamot Dag von Bothmer med stor erfarenhet av viltfrågan för att svara på frågor. \nAlla är välkomna men anmälan görs här nedan för möteslänk. Du kan anmäla dig fram till 30 minuter innan start. \n \n\n	Observera: JavaScript krävs för detta innehåll.\nDetta formulär genomgår för närvarande underhåll. Försök igen senare.
URL:https://sja.se/kalender/oppet-seminarium-vildskador-i-arrendeforhallande/
END:VEVENT
BEGIN:VEVENT
DTSTART;TZID=Europe/Stockholm:20250310T093000
DTEND;TZID=Europe/Stockholm:20250310T103000
DTSTAMP:20260423T125145
CREATED:20250205T095159Z
LAST-MODIFIED:20250206T132722Z
UID:10000028-1741599000-1741602600@sja.se
SUMMARY:Digital utbildning grundläggande arrende
DESCRIPTION:Välkommen på digital utbildning i grundläggande arrende!\nEtt utbildningstillfälle för våra medlemmar att uppdatera sina kunskaper och ställa frågor kring allt som rör arrende. \n \n\n	Observera: JavaScript krävs för detta innehåll.\nDetta formulär genomgår för närvarande underhåll. Försök igen senare.
URL:https://sja.se/kalender/digital-utbildning-grundlaggande-arrende-2/
END:VEVENT
BEGIN:VEVENT
DTSTART;VALUE=DATE:20250310
DTEND;VALUE=DATE:20250315
DTSTAMP:20260423T125145
CREATED:20250205T094804Z
LAST-MODIFIED:20250205T094907Z
UID:10000027-1741564800-1741996799@sja.se
SUMMARY:Arrendeveckan
DESCRIPTION:
URL:https://sja.se/kalender/arrendeveckan/
END:VEVENT
BEGIN:VEVENT
DTSTART;TZID=Europe/Stockholm:20250305T080000
DTEND;TZID=Europe/Stockholm:20250305T170000
DTSTAMP:20260423T125145
CREATED:20241206T135942Z
LAST-MODIFIED:20250203T152327Z
UID:10000020-1741161600-1741194000@sja.se
SUMMARY:Central konferens Swedbank Sundbyberg
DESCRIPTION:Vi välkomnar representanter från regionala föreningar\ntill central konferens den 5 mars 2025\ni Swedbanks lokaler i Sundbyberg!\nSista anmälningsdag är 26 februari så vi måste anmäla deltagare till Swedbank av säkerhetsskäl! \n\n	Observera: JavaScript krävs för detta innehåll.\nDetta formulär genomgår för närvarande underhåll. Försök igen senare.
URL:https://sja.se/kalender/central-konferens/
END:VEVENT
BEGIN:VEVENT
DTSTART;TZID=Europe/Stockholm:20250303T100000
DTEND;TZID=Europe/Stockholm:20250303T160000
DTSTAMP:20260423T125145
CREATED:20250108T075553Z
LAST-MODIFIED:20250120T075731Z
UID:10000024-1740996000-1741017600@sja.se
SUMMARY:Utbildningsdag grundläggande arrende och viltskador\, Campus Kämpasten Sigtuna
DESCRIPTION:Är du arrendator och känner att viltskador är en utmaning i ditt lantbruk? Då har vi det perfekta tillfället för dig! Vi bjuder in våra medlemmar till en inspirerande utbildningsdag på Campus Kämpasten i Sigtuna. Fokus för dagen är att ge dig de verktyg och den kunskap du behöver för att hantera viltskador effektivt.\nVår arrendespecialist\, Jan Lagerroth\,  inleder dagen med utbildning i grundläggande arrende. Sedan leder han oss genom viktiga aspekter av viltskador och ger konkreta råd för hur man kan navigera i dessa utmanande frågor. Tillsammans med honom närvarar Dag von Bothmer\, en erfaren ledamot i SJA:s styrelse\, som kommer att dela med sig av sin omfattande kunskap kring jaktfrågor och hur dessa relaterar till viltskador. \nDessutom har vi bjudit in Jan-Erik Dalmo från Länsstyrelsen i Södermanland. Han kommer att delge hur myndigheten arbetar med viltskador och vilka resurser som finns tillgängliga för lantbrukare. Du får också möjlighet att ställa frågor och få svar direkt! \nFör att skapa verklighetsförankrade perspektiv kommer vi att ta del av verkliga fall\, vilket ger dig insikter om hur andra har hanterat liknande problem. Vi lägger även stor vikt vid diskussion och frågor\, så förbered gärna dina funderingar! \nVi ser fram emot en engagerande dag fylld med lärande och utbyte av erfarenheter. Tillsammans kan vi hitta lösningar som gynnar arrendatorer och lantbrukare.\nTa del av programmet här \nInte medlem men vill delta? Bli medlem enkelt här! \nSenast den 23 februari vill vi ha din anmälan men gärna innan dess för enklare planering.  \n  \n\n	Observera: JavaScript krävs för detta innehåll.\nDetta formulär genomgår för närvarande underhåll. Försök igen senare.
URL:https://sja.se/kalender/utbildning-grundlaggande-arrende-och-viltskador/
END:VEVENT
BEGIN:VEVENT
DTSTART;TZID=Europe/Stockholm:20250225T180000
DTEND;TZID=Europe/Stockholm:20250225T210000
DTSTAMP:20260423T125145
CREATED:20250210T144239Z
LAST-MODIFIED:20250210T152458Z
UID:10000033-1740506400-1740517200@sja.se
SUMMARY:Medlemsträff SJA Örebro
DESCRIPTION:Välkommen på medlemsträff!\nTisdag 25 februari kl 18:00 bjuder SJA Örebro in sina medlemmar till en medlemskväll i samverkan med LRF Ungdomen. Fokus för kvällen är hur man startar och driver ett företag på bästa sätt. \nPå plats finns Jan Lagerroth\, affärsrådgivare och arrendespecialist Ludvig&Co\, som kommer delge sina kunskaper hur du startar ditt företag och vad du ska tänka på när du investerar som lantbrukare. Han går även igenom grundläggande arrendekunskap. \nÄven Amalia Torstensson som är företagsrådgivare på Lekebergs Sparbank kommer att berätta hur du ger dig själv förutsättningar för att lyckas som företagare. \nProgrammet i sin helhet hittar du här! \nAnmälan till senast 21 februari till\nTomas Hammarlund\n070 528 8042\ntomashammarlund@telia.com
URL:https://sja.se/kalender/medlemstraff-sja-orebro/
END:VEVENT
BEGIN:VEVENT
DTSTART;TZID=Europe/Stockholm:20250224T183000
DTEND;TZID=Europe/Stockholm:20250224T210000
DTSTAMP:20260423T125145
CREATED:20250129T104512Z
LAST-MODIFIED:20250210T151431Z
UID:10000025-1740421800-1740430800@sja.se
SUMMARY:Årsmöte SJA Jönköping 2025
DESCRIPTION:Välkommen på årsmöte 2025 SJA Jönköping!\nVi hälsar er välkomna till en kväll tillsammans med SJA Jönköping på Wärdshuset Bredaryd den 24 februari. Vi börjar med att äta den berömda planksteken som serveras i restaurangen följt av tema överlåtelse och årsmötesförhandlingar. Sista anmälningsdag är 21 februari! \nProgrammet hittar du här\n \n\n	Observera: JavaScript krävs för detta innehåll.\nDetta formulär genomgår för närvarande underhåll. Försök igen senare.
URL:https://sja.se/kalender/arsmote-sja-jonkoping-2025/
END:VEVENT
BEGIN:VEVENT
DTSTART;TZID=Europe/Stockholm:20250127T180000
DTEND;TZID=Europe/Stockholm:20250127T210000
DTSTAMP:20260423T125145
CREATED:20250108T071341Z
LAST-MODIFIED:20250124T073632Z
UID:10000023-1738000800-1738011600@sja.se
SUMMARY:Årsmöte 2025 SJA Västra Sverige
DESCRIPTION:Välkommen på årsmöte 2025 SJA Västra Sverige!\nProgrammet hittar du här\n \nANMÄLAN ÄR STÄNGD!\n\n	Observera: JavaScript krävs för detta innehåll.\nDetta formulär genomgår för närvarande underhåll. Försök igen senare.
URL:https://sja.se/kalender/arsmote-2025-sja-vastra-sverige/
END:VEVENT
BEGIN:VEVENT
DTSTART;TZID=Europe/Stockholm:20250127T180000
DTEND;TZID=Europe/Stockholm:20250127T210000
DTSTAMP:20260423T125145
CREATED:20241230T093734Z
LAST-MODIFIED:20250124T073411Z
UID:10000022-1738000800-1738011600@sja.se
SUMMARY:Årsmöte SJA Skåne
DESCRIPTION:Boka in den 27 januari –\nSJA Skåne hälsar dig välkommen på årsmöte!\nProgrammet hittar du här\nVarmt välkommen!\n \nANMÄLAN ÄR STÄNGD!\n\n	Observera: JavaScript krävs för detta innehåll.\nDetta formulär genomgår för närvarande underhåll. Försök igen senare.
URL:https://sja.se/kalender/arsmote-sja-skane/
END:VEVENT
BEGIN:VEVENT
DTSTART;TZID=Europe/Stockholm:20250121T090000
DTEND;TZID=Europe/Stockholm:20250121T103000
DTSTAMP:20260423T125145
CREATED:20241206T135408Z
LAST-MODIFIED:20241206T135517Z
UID:10000018-1737450000-1737455400@sja.se
SUMMARY:Digital utbildning Viltskador i ett arrendeförhållande
DESCRIPTION:Viltskador är ett problem för alla lantbrukare men det kan vara extra klurigt att hantera som arrendator. Vi bjuder in våra medlemmar till en digital utbildning där vår arrendespecialist Jan Lagerroth leder dig igenom vad man ska tänka på. Med på utbildningen finns även Dag von Bothmer\, ledamot SJA styrelse\, med stor erfarenhet gällande jaktfrågor för att ge sitt perspektiv. För att skapa perspektiv kommer vi ha exempel från verkliga fall och lämnar även utrymme för diskussion och frågor.\nInte medlem men vill delta? Bli medlem enkelt här! \n \n\n	Observera: JavaScript krävs för detta innehåll.\nDetta formulär genomgår för närvarande underhåll. Försök igen senare.
URL:https://sja.se/kalender/digital-utbildning-viltskador-i-ett-arrendeforhallande/
END:VEVENT
BEGIN:VEVENT
DTSTART;VALUE=DATE:20241203
DTEND;VALUE=DATE:20241205
DTSTAMP:20260423T125145
CREATED:20240328T103502Z
LAST-MODIFIED:20241024T095352Z
UID:10000009-1733184000-1733356799@sja.se
SUMMARY:Stämma 2024 i Nässjö
DESCRIPTION:Vi hälsar er välkomna till stämma 2024! Det här är vår stora händelse på året och vi hoppas på att det ska bli så givande dagar som möjligt! \n\nStämman pågår under två dagar med start den 3 december kl 11:00 och avslutas 4 december kl 12:00. Totalt har stämman 50 mandat vilket innebär att beroende på hur många medlemmar det finns i respektive region tilldelas man olika många mandat. Samtliga mandat bjuder föreningen på hela vistelsen och kostnader runt omkring. Men vill du som medlem delta är du välkommen i mån av plats! Hör då av dig till kansliet i god tid för att säkra din plats. Vid eventuellt nyttjande av röstlängd under årsmötet räknas dock endast röster med de närvarande som har mandat. \n\nDet är viktigt att vi fyller alla mandat för att det ska bli så givande dagar som möjligt!  \n\n\nNyfiken på programmet? Det hittar du här! Observera att det kan komma att justeras något. \n\nSista anmälningsdag är 9 november!\n\n  \n\n\n	Observera: JavaScript krävs för detta innehåll.\nDetta formulär genomgår för närvarande underhåll. Försök igen senare.
URL:https://sja.se/kalender/stamma-2024-jonkoping/
LOCATION:Jönköping\, Mångatan 10\, Jönköping\, 554 39\, Sweden
END:VEVENT
BEGIN:VEVENT
DTSTART;TZID=Europe/Stockholm:20241128T190000
DTEND;TZID=Europe/Stockholm:20241128T200000
DTSTAMP:20260423T125145
CREATED:20241001T141428Z
LAST-MODIFIED:20241003T091152Z
UID:10000017-1732820400-1732824000@sja.se
SUMMARY:Digital utbildning grundläggande arrende
DESCRIPTION:Observera: JavaScript krävs för detta innehåll.\nDetta formulär genomgår för närvarande underhåll. Försök igen senare.
URL:https://sja.se/kalender/digital-utbildning-grundlaggande-arrende/
END:VEVENT
BEGIN:VEVENT
DTSTART;TZID=Europe/Stockholm:20241107T093000
DTEND;TZID=Europe/Stockholm:20241107T150000
DTSTAMP:20260423T125145
CREATED:20241001T121446Z
LAST-MODIFIED:20241003T043859Z
UID:10000016-1730971800-1730991600@sja.se
SUMMARY:Utbildning grundläggande arrende i Jönköping
DESCRIPTION:FULLSTÄNDIGT PROGRAMBLAD HITTAR DU HÄR! \nKOSTNADSFRITT FÖR VÅRA MEDLEMMAR!\nObservera att anmälan sker en person i taget och är bindande! \nSista anmälningsdag är 4 november! \n\n	Observera: JavaScript krävs för detta innehåll.\nDetta formulär genomgår för närvarande underhåll. Försök igen senare.
URL:https://sja.se/kalender/utbildning-grundlaggande-arrende-i-jonkoping/
END:VEVENT
BEGIN:VEVENT
DTSTART;TZID=Europe/Stockholm:20241016T080000
DTEND;TZID=Europe/Stockholm:20241018T170000
DTSTAMP:20260423T125145
CREATED:20240805T081441Z
LAST-MODIFIED:20240805T081441Z
UID:10000014-1729065600-1729270800@sja.se
SUMMARY:ELMIA Lantbruk
DESCRIPTION:Vi kommer finnas på ELMIA Landbruk under utställningsdagarna! \nKom förbi och prata med oss och är du inte medlem – ta del av vårt mässerbjudandet som gäller under dagarna!
URL:https://sja.se/kalender/elmia-lantbruk/
END:VEVENT
BEGIN:VEVENT
DTSTART;TZID=Europe/Stockholm:20240924T183000
DTEND;TZID=Europe/Stockholm:20240924T210000
DTSTAMP:20260423T125145
CREATED:20240910T164628Z
LAST-MODIFIED:20240910T165334Z
UID:10000015-1727202600-1727211600@sja.se
SUMMARY:Medlemsträff SJA Jönköping
DESCRIPTION:SJA Jönköping hälsar välkommen till medlemsträff tisdag den 24 september kl 18:30\nKom och lyssna på Jan Lagerroth\, arrendespecialist SJA och verksam på Ludvig & Co. Vad skall man tänka på vid en arrendeöverlåtelse av ett mjölkföretag vid generationsskifte eller försäljning av ett mjölk/köttföretag? Jan har lång och bred erfarenhet hur man bäst går tillväga för att genomförandet skall vara ekonomiskt möjligt och hur man undviker fallgropar. \nProgrammet i sin helhet hittar du här! \n \n\n	Observera: JavaScript krävs för detta innehåll.\nInga fält hittades.
URL:https://sja.se/kalender/medlemstraff-sja-jonkoping/
END:VEVENT
BEGIN:VEVENT
DTSTART;TZID=Europe/Stockholm:20240717T180000
DTEND;TZID=Europe/Stockholm:20240717T210000
DTSTAMP:20260423T125145
CREATED:20240705T095559Z
LAST-MODIFIED:20240705T101507Z
UID:10000013-1721239200-1721250000@sja.se
SUMMARY:Årsträff SJA Örebro
DESCRIPTION:Varmt välkomna på årsträff för SJA Örebro! \nProgrammet i sin helhet finner du här!
URL:https://sja.se/kalender/arstraff-sja-orebro/
END:VEVENT
BEGIN:VEVENT
DTSTART;VALUE=DATE:20240703
DTEND;VALUE=DATE:20240705
DTSTAMP:20260423T125145
CREATED:20240328T103136Z
LAST-MODIFIED:20240422T054444Z
UID:10000008-1719964800-1720137599@sja.se
SUMMARY:Vi kommer finnas på Brunnby lantbrukardagar 3-4 juli!
DESCRIPTION:Mer information om mässan hittar du här. \n\n\n\n\n\nHoppas vi ses där\, varmt välkomna!
URL:https://sja.se/kalender/vi-kommer-finnas-pa-brunnby-lantbrukardagar-3-4-juli/
LOCATION:Brunnby Gård\, Sverige
END:VEVENT
BEGIN:VEVENT
DTSTART;VALUE=DATE:20240626
DTEND;VALUE=DATE:20240628
DTSTAMP:20260423T125145
CREATED:20240328T101751Z
LAST-MODIFIED:20240531T062032Z
UID:10000007-1719360000-1719532799@sja.se
SUMMARY:Träffa oss på Borgeby fältdagar 26-27 juni!
DESCRIPTION:Sommarens mässor närmar sig med stormsteg! \nMer information om mässan hittar du här. \nFunderar du på att bli medlem? Missa inte att komma och prata med oss\, vi har ett erbjudande till just dig! \nHoppas vi ses\, välkommen! \n\n \n 
URL:https://sja.se/kalender/traffa-oss-borgeby-faltdagar/
LOCATION:Borgeby kyrkväg\, Borgeby Kyrkväg 7\, Bjärred\, 23791\, Sverige
END:VEVENT
BEGIN:VEVENT
DTSTART;TZID=Europe/Stockholm:20240604T180000
DTEND;TZID=Europe/Stockholm:20240604T210000
DTSTAMP:20260423T125145
CREATED:20240503T140056Z
LAST-MODIFIED:20240505T130140Z
UID:10000012-1717524000-1717534800@sja.se
SUMMARY:Sommarträff SJA Skåne
DESCRIPTION:SJA Skåne hälsar er välkomna på sommarträff hos LEMKEN i Hammenhög! \nMer info hittar du här! \n\n	Observera: JavaScript krävs för detta innehåll.\nInga fält hittades.
URL:https://sja.se/kalender/sommartraff-sja-skane/
END:VEVENT
BEGIN:VEVENT
DTSTART;TZID=Europe/Stockholm:20240516T183000
DTEND;TZID=Europe/Stockholm:20240516T210000
DTSTAMP:20260423T125145
CREATED:20240429T050443Z
LAST-MODIFIED:20240505T124007Z
UID:10000011-1715884200-1715893200@sja.se
SUMMARY:Årsmöte Kalmar Öland
DESCRIPTION:Nu är det dags för årsmöte för SJA Kalmar Öland! Vi ses på More Biogas för rundvisning på deras anläggning innan det blir dags för mat och årsmötesförhandlingar.  \nSista anmälningsdag 13 maj.  \nHela programmet hittar du här. \n\n	Observera: JavaScript krävs för detta innehåll.\nInga fält hittades.
URL:https://sja.se/kalender/arsmote-kalmar-oland/
END:VEVENT
BEGIN:VEVENT
DTSTART;TZID=Europe/Stockholm:20240423T190000
DTEND;TZID=Europe/Stockholm:20240423T210000
DTSTAMP:20260423T125145
CREATED:20240405T072937Z
LAST-MODIFIED:20240408T051941Z
UID:10000010-1713898800-1713906000@sja.se
SUMMARY:Årsmöte SJA Kronoberg 2024
DESCRIPTION:SJA Kronoberg hälsar dig välkommen till årsmöte tisdagen den 23 april. \nVi träffas på Härlövs Skafferi kl 19:00 och inleder med mat. \nRepresentation från SJA centralt finns på plats under kvällen och informerar om vad som händer i organisationen. Vi avslutar med årsmötesförhandlingar. \nSista anmälningsdag är 16 april för att kunna göra matbeställning. \nFullständigt program hittar du här. \nVarmt välkomna! \n\n	Observera: JavaScript krävs för detta innehåll.\nInga fält hittades.
URL:https://sja.se/kalender/arsmote-sja-kronoberg-2024/
LOCATION:Härlövs 34292\, SE Alvesta\, Moheda\, 342 92
END:VEVENT
END:VCALENDAR