BEGIN:VCALENDAR
VERSION:2.0
PRODID:-//Sveriges Jordbruksarrendatorer - ECPv6.15.17.1//NONSGML v1.0//EN
CALSCALE:GREGORIAN
METHOD:PUBLISH
X-WR-CALNAME:Sveriges Jordbruksarrendatorer
X-ORIGINAL-URL:https://sja.se
X-WR-CALDESC:Händelser för Sveriges Jordbruksarrendatorer
REFRESH-INTERVAL;VALUE=DURATION:PT1H
X-Robots-Tag:noindex
X-PUBLISHED-TTL:PT1H
BEGIN:VTIMEZONE
TZID:Europe/Stockholm
BEGIN:DAYLIGHT
TZOFFSETFROM:+0100
TZOFFSETTO:+0200
TZNAME:CEST
DTSTART:20240331T010000
END:DAYLIGHT
BEGIN:STANDARD
TZOFFSETFROM:+0200
TZOFFSETTO:+0100
TZNAME:CET
DTSTART:20241027T010000
END:STANDARD
BEGIN:DAYLIGHT
TZOFFSETFROM:+0100
TZOFFSETTO:+0200
TZNAME:CEST
DTSTART:20250330T010000
END:DAYLIGHT
BEGIN:STANDARD
TZOFFSETFROM:+0200
TZOFFSETTO:+0100
TZNAME:CET
DTSTART:20251026T010000
END:STANDARD
BEGIN:DAYLIGHT
TZOFFSETFROM:+0100
TZOFFSETTO:+0200
TZNAME:CEST
DTSTART:20260329T010000
END:DAYLIGHT
BEGIN:STANDARD
TZOFFSETFROM:+0200
TZOFFSETTO:+0100
TZNAME:CET
DTSTART:20261025T010000
END:STANDARD
END:VTIMEZONE
BEGIN:VEVENT
DTSTART;TZID=Europe/Stockholm:20251118T093000
DTEND;TZID=Europe/Stockholm:20251118T150000
DTSTAMP:20260423T142343
CREATED:20251009T075659Z
LAST-MODIFIED:20251009T130010Z
UID:10000050-1763458200-1763478000@sja.se
SUMMARY:Utbildningdag grundläggande arrende i Säffle
DESCRIPTION:Utbildningsdag i Grundläggande Arrende\n18 november 2025 \nVälkommen till en inspirerande utbildningsdag för dig som vill stärka dina kunskaper om arrende\, avtal och marknadsfrågor!Dagen vänder sig till medlemmar som vill utveckla sitt företagande och skapa bättre förutsättningar för ett långsiktigt och lönsamt brukande. \n📍 Plats\nFirst Hotel Royal Olov Trätäljagatan 2\, 661 30\, Saffle \n🕓 Program\n09.30 – Välkommen och uppstart med kaffe10.00 – Grundläggande arrendekunskap och fördjupningar med Jan Lagerroth\, arrendespecialist och affärsrådgivare12.30 – Lunch13.15 – Uppsamling av frågor och diskussion14.00 – Marknad och växtodling med Erik Sundell\, Scandinavian Farmers15.00 – Avslutning och kaffe \n💬 Varför delta?\n\n\nFå fördjupad förståelse för arrendeavtal och villkor \n\n\nDiskutera praktiska exempel och utmaningar i vardagen \n\n\nInspireras av experter med lång erfarenhet i branschen \n\n\nNätverka med andra medlemmar \n\n\n📅 Anmälan\nAnmäl dig senast 11 november via formuläret nedan.Antalet platser är begränsat – först till kvarn gäller! \n\n	Observera: JavaScript krävs för detta innehåll.
URL:https://sja.se/kalender/utbildningdag-grundlaggande-arrende-i-saffle/
LOCATION:First Hotel Royal\, Säffle\, Olov Trätäljagatan 2\, Säffle\, 661 30
END:VEVENT
END:VCALENDAR