BEGIN:VCALENDAR
VERSION:2.0
PRODID:-//Sveriges Jordbruksarrendatorer - ECPv6.15.17.1//NONSGML v1.0//EN
CALSCALE:GREGORIAN
METHOD:PUBLISH
X-ORIGINAL-URL:https://sja.se
X-WR-CALDESC:Händelser för Sveriges Jordbruksarrendatorer
REFRESH-INTERVAL;VALUE=DURATION:PT1H
X-Robots-Tag:noindex
X-PUBLISHED-TTL:PT1H
BEGIN:VTIMEZONE
TZID:Europe/Stockholm
BEGIN:DAYLIGHT
TZOFFSETFROM:+0100
TZOFFSETTO:+0200
TZNAME:CEST
DTSTART:20240331T010000
END:DAYLIGHT
BEGIN:STANDARD
TZOFFSETFROM:+0200
TZOFFSETTO:+0100
TZNAME:CET
DTSTART:20241027T010000
END:STANDARD
BEGIN:DAYLIGHT
TZOFFSETFROM:+0100
TZOFFSETTO:+0200
TZNAME:CEST
DTSTART:20250330T010000
END:DAYLIGHT
BEGIN:STANDARD
TZOFFSETFROM:+0200
TZOFFSETTO:+0100
TZNAME:CET
DTSTART:20251026T010000
END:STANDARD
BEGIN:DAYLIGHT
TZOFFSETFROM:+0100
TZOFFSETTO:+0200
TZNAME:CEST
DTSTART:20260329T010000
END:DAYLIGHT
BEGIN:STANDARD
TZOFFSETFROM:+0200
TZOFFSETTO:+0100
TZNAME:CET
DTSTART:20261025T010000
END:STANDARD
END:VTIMEZONE
BEGIN:VEVENT
DTSTART;TZID=Europe/Stockholm:20250324T180000
DTEND;TZID=Europe/Stockholm:20250324T210000
DTSTAMP:20260423T021155
CREATED:20250205T094601Z
LAST-MODIFIED:20250317T063139Z
UID:10000026-1742839200-1742850000@sja.se
SUMMARY:Årsmöte 2025 SJA Gotland
DESCRIPTION:Vi startar upp SJA Gotland!\nVi är glada och stolta över att vi startar upp en ny regional förening på Gotland! Var med på vårt första möte där vi presenterar föreningen och sätter styrelse\, valberedning och revisorer. På plats finns ordförande Carl-Fredrik Svederberg\, arrendespecialist Jan Lagerroth och från kansliet Madelene Svedin. \nFör dig som ännu inte är medlem och önskar gå med har vi ett erbjudande. Passa på! \nInbjudan och program kan du hitta här. \nFöreslagna stadgar \n \n\n	Observera: JavaScript krävs för detta innehåll.\nDetta formulär genomgår för närvarande underhåll. Försök igen senare.
URL:https://sja.se/kalender/arsmote-2025-sja-gotland/
LOCATION:grönt centrum romakloster\, Roma Lövsta 10\,\, Romakloster\, 622 54\, Sweden
END:VEVENT
END:VCALENDAR