BEGIN:VCALENDAR
VERSION:2.0
PRODID:-//Sveriges Jordbruksarrendatorer - ECPv6.15.17.1//NONSGML v1.0//EN
CALSCALE:GREGORIAN
METHOD:PUBLISH
X-ORIGINAL-URL:https://sja.se
X-WR-CALDESC:Händelser för Sveriges Jordbruksarrendatorer
REFRESH-INTERVAL;VALUE=DURATION:PT1H
X-Robots-Tag:noindex
X-PUBLISHED-TTL:PT1H
BEGIN:VTIMEZONE
TZID:Europe/Stockholm
BEGIN:DAYLIGHT
TZOFFSETFROM:+0100
TZOFFSETTO:+0200
TZNAME:CEST
DTSTART:20230326T010000
END:DAYLIGHT
BEGIN:STANDARD
TZOFFSETFROM:+0200
TZOFFSETTO:+0100
TZNAME:CET
DTSTART:20231029T010000
END:STANDARD
BEGIN:DAYLIGHT
TZOFFSETFROM:+0100
TZOFFSETTO:+0200
TZNAME:CEST
DTSTART:20240331T010000
END:DAYLIGHT
BEGIN:STANDARD
TZOFFSETFROM:+0200
TZOFFSETTO:+0100
TZNAME:CET
DTSTART:20241027T010000
END:STANDARD
BEGIN:DAYLIGHT
TZOFFSETFROM:+0100
TZOFFSETTO:+0200
TZNAME:CEST
DTSTART:20250330T010000
END:DAYLIGHT
BEGIN:STANDARD
TZOFFSETFROM:+0200
TZOFFSETTO:+0100
TZNAME:CET
DTSTART:20251026T010000
END:STANDARD
END:VTIMEZONE
BEGIN:VEVENT
DTSTART;TZID=Europe/Stockholm:20240423T190000
DTEND;TZID=Europe/Stockholm:20240423T210000
DTSTAMP:20260422T224453
CREATED:20240405T072937Z
LAST-MODIFIED:20240408T051941Z
UID:10000010-1713898800-1713906000@sja.se
SUMMARY:Årsmöte SJA Kronoberg 2024
DESCRIPTION:SJA Kronoberg hälsar dig välkommen till årsmöte tisdagen den 23 april. \nVi träffas på Härlövs Skafferi kl 19:00 och inleder med mat. \nRepresentation från SJA centralt finns på plats under kvällen och informerar om vad som händer i organisationen. Vi avslutar med årsmötesförhandlingar. \nSista anmälningsdag är 16 april för att kunna göra matbeställning. \nFullständigt program hittar du här. \nVarmt välkomna! \n\n	Observera: JavaScript krävs för detta innehåll.\nInga fält hittades.
URL:https://sja.se/kalender/arsmote-sja-kronoberg-2024/
LOCATION:Härlövs 34292\, SE Alvesta\, Moheda\, 342 92
END:VEVENT
END:VCALENDAR